BEGIN:VCALENDAR
VERSION:2.0
PRODID:-//Paroisse Saint Ambroise - ECPv6.15.13//NONSGML v1.0//EN
CALSCALE:GREGORIAN
METHOD:PUBLISH
X-WR-CALNAME:Paroisse Saint Ambroise
X-ORIGINAL-URL:https://saint-ambroise.com
X-WR-CALDESC:Évènements pour Paroisse Saint Ambroise
REFRESH-INTERVAL;VALUE=DURATION:PT1H
X-Robots-Tag:noindex
X-PUBLISHED-TTL:PT1H
BEGIN:VTIMEZONE
TZID:Europe/Paris
BEGIN:DAYLIGHT
TZOFFSETFROM:+0100
TZOFFSETTO:+0200
TZNAME:CEST
DTSTART:20220327T010000
END:DAYLIGHT
BEGIN:STANDARD
TZOFFSETFROM:+0200
TZOFFSETTO:+0100
TZNAME:CET
DTSTART:20221030T010000
END:STANDARD
BEGIN:DAYLIGHT
TZOFFSETFROM:+0100
TZOFFSETTO:+0200
TZNAME:CEST
DTSTART:20230326T010000
END:DAYLIGHT
BEGIN:STANDARD
TZOFFSETFROM:+0200
TZOFFSETTO:+0100
TZNAME:CET
DTSTART:20231029T010000
END:STANDARD
BEGIN:DAYLIGHT
TZOFFSETFROM:+0100
TZOFFSETTO:+0200
TZNAME:CEST
DTSTART:20240331T010000
END:DAYLIGHT
BEGIN:STANDARD
TZOFFSETFROM:+0200
TZOFFSETTO:+0100
TZNAME:CET
DTSTART:20241027T010000
END:STANDARD
END:VTIMEZONE
BEGIN:VEVENT
DTSTART;TZID=Europe/Paris:20230920T200000
DTEND;TZID=Europe/Paris:20230920T210000
DTSTAMP:20260421T101527
CREATED:20230915T200057Z
LAST-MODIFIED:20230915T200416Z
UID:13486-1695240000-1695243600@saint-ambroise.com
SUMMARY:Court-métrage de l'Aumônerie du 7
DESCRIPTION:Projection du Court-métrage « ESTHER »\n\n\n\nL’Aumônerie du 7 vous invite à une projection du Court-métrage « ESTHER » en salle Saint-Ambroise le mercredi 20 septembre à 20h. Ce court métrage a été réalisé lors d’un tournage pendant le camp d’été en Auvergne. Ne manquez pas cette occasion unique de découvrir le talent créatif des jeunes et de partager cette expérience cinématographique avec nous. Venez nombreux pour une soirée de divertissement et de découverte cinématographique ! \n\n\n\n\n\n\n\n\n\n\n\n\n\nAumônerie du 7
URL:https://saint-ambroise.com/event/court-metrage/
LOCATION:Salle Saint-Ambroise\, 1bis Rue Lacharrière\, Paris\, 75011\, France
CATEGORIES:A la une,Maison du Sept,Spectacle
ATTACH;FMTTYPE=image/jpeg:https://saint-ambroise.com/wp-content/uploads/2023/09/Court-metrage-aumonerie-2023.jpg
ORGANIZER;CN="Paroisse Saint Ambroise":MAILTO:paroisse@saint-ambroise.com
END:VEVENT
END:VCALENDAR