BEGIN:VCALENDAR
VERSION:2.0
PRODID:-//Paroisse Saint Ambroise - ECPv6.15.13//NONSGML v1.0//EN
CALSCALE:GREGORIAN
METHOD:PUBLISH
X-WR-CALNAME:Paroisse Saint Ambroise
X-ORIGINAL-URL:https://saint-ambroise.com
X-WR-CALDESC:Évènements pour Paroisse Saint Ambroise
REFRESH-INTERVAL;VALUE=DURATION:PT1H
X-Robots-Tag:noindex
X-PUBLISHED-TTL:PT1H
BEGIN:VTIMEZONE
TZID:Europe/Paris
BEGIN:DAYLIGHT
TZOFFSETFROM:+0100
TZOFFSETTO:+0200
TZNAME:CEST
DTSTART:20220327T010000
END:DAYLIGHT
BEGIN:STANDARD
TZOFFSETFROM:+0200
TZOFFSETTO:+0100
TZNAME:CET
DTSTART:20221030T010000
END:STANDARD
BEGIN:DAYLIGHT
TZOFFSETFROM:+0100
TZOFFSETTO:+0200
TZNAME:CEST
DTSTART:20230326T010000
END:DAYLIGHT
BEGIN:STANDARD
TZOFFSETFROM:+0200
TZOFFSETTO:+0100
TZNAME:CET
DTSTART:20231029T010000
END:STANDARD
BEGIN:DAYLIGHT
TZOFFSETFROM:+0100
TZOFFSETTO:+0200
TZNAME:CEST
DTSTART:20240331T010000
END:DAYLIGHT
BEGIN:STANDARD
TZOFFSETFROM:+0200
TZOFFSETTO:+0100
TZNAME:CET
DTSTART:20241027T010000
END:STANDARD
END:VTIMEZONE
BEGIN:VEVENT
DTSTART;TZID=Europe/Paris:20231015T160000
DTEND;TZID=Europe/Paris:20231015T170000
DTSTAMP:20260421T100453
CREATED:20231006T203539Z
LAST-MODIFIED:20231104T152236Z
UID:13615-1697385600-1697389200@saint-ambroise.com
SUMMARY:Concert Jubilate Deo !
DESCRIPTION:Concert du Chœur Ephata « Jubilate Deo ! »\n\n\n\nA 16h00 nous accueillerons dans l’église un très beau concert du Chœur Ephata. « Jubilate Deo ! » (œuvres de Mendelsohn et Bach)\, sous la direction de Rogatien Despaigne. Informations : choeurephata.comEntrée libre pour tous. \n\n\n\n\n© Saint Ambroise\n\n\n\n© Saint Ambroise\n\n\n\n© Saint Ambroise\n© Saint Ambroise
URL:https://saint-ambroise.com/event/concert-jubilate-deo/
LOCATION:Église Saint-Ambroise\, 71 bis Boulevard Voltaire\, Paris\, 75011\, France
CATEGORIES:Concert,Spectacle
ATTACH;FMTTYPE=image/jpeg:https://saint-ambroise.com/wp-content/uploads/2023/09/concert_Choeur_Ephata_banniere.jpg
ORGANIZER;CN="Paroisse Saint Ambroise":MAILTO:paroisse@saint-ambroise.com
END:VEVENT
END:VCALENDAR