BEGIN:VCALENDAR
VERSION:2.0
PRODID:-//Paroisse Saint Ambroise - ECPv6.15.13//NONSGML v1.0//EN
CALSCALE:GREGORIAN
METHOD:PUBLISH
X-ORIGINAL-URL:https://saint-ambroise.com
X-WR-CALDESC:Évènements pour Paroisse Saint Ambroise
REFRESH-INTERVAL;VALUE=DURATION:PT1H
X-Robots-Tag:noindex
X-PUBLISHED-TTL:PT1H
BEGIN:VTIMEZONE
TZID:Europe/Paris
BEGIN:DAYLIGHT
TZOFFSETFROM:+0100
TZOFFSETTO:+0200
TZNAME:CEST
DTSTART:20240331T010000
END:DAYLIGHT
BEGIN:STANDARD
TZOFFSETFROM:+0200
TZOFFSETTO:+0100
TZNAME:CET
DTSTART:20241027T010000
END:STANDARD
BEGIN:DAYLIGHT
TZOFFSETFROM:+0100
TZOFFSETTO:+0200
TZNAME:CEST
DTSTART:20250330T010000
END:DAYLIGHT
BEGIN:STANDARD
TZOFFSETFROM:+0200
TZOFFSETTO:+0100
TZNAME:CET
DTSTART:20251026T010000
END:STANDARD
BEGIN:DAYLIGHT
TZOFFSETFROM:+0100
TZOFFSETTO:+0200
TZNAME:CEST
DTSTART:20260329T010000
END:DAYLIGHT
BEGIN:STANDARD
TZOFFSETFROM:+0200
TZOFFSETTO:+0100
TZNAME:CET
DTSTART:20261025T010000
END:STANDARD
END:VTIMEZONE
BEGIN:VEVENT
DTSTART;TZID=Europe/Paris:20251206T090000
DTEND;TZID=Europe/Paris:20251208T210000
DTSTAMP:20260420T190905
CREATED:20251128T223135Z
LAST-MODIFIED:20251129T103653Z
UID:839-1765011600-1765227600@saint-ambroise.com
SUMMARY:Sapins de Noël 2025
DESCRIPTION:Livraison gratuite de sapins de Noël à Paris\n\n\n\nLes deux groupes Scouts et l’aumônerie de la paroisse Saint-Ambroise organisent ensemble une vente de sapins de Noël pour soutenir leurs projets ! 🌲 \n\n\n\nC’est une occasion unique d’acheter cet indispensable de la période hivernale tout en nous aidant à financer nos projets pour l’été prochain. Cette année\, votre aide va nous permettre de réaliser des projets associatifs solidaires et environnementaux. \n\n\n\nFaites-vous livrer un sapin de Noël tout en faisant une bonne action !\n\n\n\n\n\n\n\n\n\n\n\nLes sapins peuvent être commandés dès aujourd’hui et jusqu’au 6 décembre 2025 ! \n\n\n\nIls seront livrés le samedi 6 décembre 2025 directement à votre domicile entre 9h et 13h ou le lundi 8 décembre entre 18h et 21h. \n\n\n\nLes différentes tailles de sapin et tarifs\n\n\n\nLes sapins sont livrés avec le pied bûche. \n\n\n\n\nTrès petit sapin (1m à 1\,25 m) : 50€\n\n\n\nPetit sapin (1\,25m à 1\,50m) : 60€\n\n\n\nMoyen sapin (1\,50m à 1\,75m) : 70€\n\n\n\nGrand sapin (1\,75m à 2m) : 80€\n\n\n\n\n\n\nComment commander les sapins de Noël\n\n\n\nPar internet\n\n\n\nPour toutes commandes sur le site onparticipe.fr 🌲 avant le 6 décembre 2025\, 👉 veuillez cliquer sur ce lien. \n\n\n\nPar chèque\n\n\n\nVous pouvez commander votre sapin en vous adressant directement à l’accueil de la maison paroissiale\, 33 avenue Parmentier – 75011 (du lundi au vendredi de 9h30 à 12h ou de 14h30 à 17h\, le samedide 10h à 12h)\, en apportant un chèque à l’ordre de « SGDF». \n\n\n\nContact\n\n\n\nPour toute information complémentaire\, merci de contacter père Antoine de Pontevès sur ce lien. \n\n\n\nLa livraison est gratuite et à domicile dans les 3e\, 11e\, 12e et 20e arrondissement. Les sapins ne pourront pas être livrés plus loin. \n\n\n\nOn compte sur vous ! 🌲🤶 \n\n\n\n\n\n\n© Saint Ambroise\n\n\n\n© Saint Ambroise\n\n\n\n© Le DENIER
URL:https://saint-ambroise.com/event/livraison-sapins-de-noel/
LOCATION:La Maison du Sept\, 7 Passage Saint-Ambroise\, Paris\, 75011\, France
CATEGORIES:Fête,Noël
ATTACH;FMTTYPE=image/jpeg:https://saint-ambroise.com/wp-content/uploads/2022/11/Sapin-de-Noel-2025-flyer.jpg
END:VEVENT
BEGIN:VEVENT
DTSTART;TZID=Europe/Paris:20251206T103000
DTEND;TZID=Europe/Paris:20251207T180000
DTSTAMP:20260420T190906
CREATED:20251202T205305Z
LAST-MODIFIED:20251202T211840Z
UID:862-1765017000-1765130400@saint-ambroise.com
SUMMARY:Marché de Noël Paris 11 - 2025
DESCRIPTION:Marché de Noël Paris 11 à Saint Ambroise\n\n\n\nNoël c’est la fête de la naissance de Jésus. Soyons dans la joie ! \n\n\n\nNous aurons la joie de nous retrouver\, pour le Marché de Noël Paris 11\, le week-end du 6 au 7 décembre 2025. \n\n\n\nOn ne manque pas le marché de Noël de Saint-Ambroise ! \n\n\n\nVenez nombreux à cet événement festif pour que votre joie soit parfaite ! Vous y trouverez des stands artisanaux et gustatifs. De bonnes affaires vous attendent à la brocante\, aux livres et à la braderie. Des ateliers cuisine\, tisane\, déco de Noël\, vous seront proposés ainsi que des spectacles et autres événements pour tous les âges. Venez écouter les témoignages d’associations paroissiennes et rencontrer les missionnaires. \n\n\n\nRéservez votre dîner-spectacle le samedi soir où partager un délicieux repas le dimanche midi. \n\n\n\nDéjà des équipes se mettent en place pour l’organiser. Si vous vouliez déposer des dons à cette intention pour garnir les stands\, il est possible de le faire à la Maison paroissiale (33\, avenue Parmentier) aux heures d’ouverture ou par email : marchedenoel@saint-ambroise.com. \n\n\n\n\n\n\n\n\n\nFlyer-marché-Noel-2025_AfficheTélécharger\n\n\n\n\n\nFlyer-marché-Noel-2025_ProgrammeTélécharger\n\n\n\n\n\n\n\n\n\nLes horaires des messes de Noël\n\n\n\n\nPour connaitre les horaires des messes à Saint Ambroise\, cliquez-ici.\n\n\n\n\n\n\n\n© Saint Ambroise\n\n\n\n© Saint Ambroise\n\n\n\n© Saint Ambroise
URL:https://saint-ambroise.com/event/marche-de-noel-paris-11/
LOCATION:Église Saint-Ambroise\, 71 bis Boulevard Voltaire\, Paris\, 75011\, France
CATEGORIES:Fête,Noël
ATTACH;FMTTYPE=image/jpeg:https://saint-ambroise.com/wp-content/uploads/2025/11/Flyer-Programme-Web-2025.jpg
END:VEVENT
BEGIN:VEVENT
DTSTART;TZID=Europe/Paris:20251206T121500
DTEND;TZID=Europe/Paris:20251206T133000
DTSTAMP:20260420T190906
CREATED:20251202T200550Z
LAST-MODIFIED:20251202T200559Z
UID:18111-1765023300-1765027800@saint-ambroise.com
SUMMARY:Fête de Saint Ambroise
DESCRIPTION:Messe solennelle de Saint-Ambroise\n\n\n\nLe 7 décembre\, partout dans le monde\, est fêté notre saint patron : saint Ambroise\, évêque de Milan\, docteur et Père de l’Église. C’est aussi le jour anniversaire de la dédicace de l’église paroissiale actuelle qui se dresse aujourd’hui boulevard Voltaire\, construite de 1863 à 1869 par Ballu et consacrée le 7 décembre 1910 par le cardinal Amette lors d’une célébration solennelle. \n\n\n\nCette fête ouvrira comme chaque année la semaine de festivités locales.La fête de Saint Ambroise tombant le dimanche 7 décembre\, la messe sera exceptionnellement célébrée le samedi 6 décembre 2025. \n\n\n\nVous êtes tous attendus le samedi 6 décembre à 12h15 à cette célébration. \n\n\n\nPlus d’informations sur la fête de Saint Ambroise\n\n\n\n\nAmbroise de Milan\n\n\n\nSaint-Ambroise\, docteur de l’église\n\n\n\n\n\n© Saint Ambroise\n\n\n\n© Saint Ambroise\n\n\n\n© Saint Ambroise
URL:https://saint-ambroise.com/event/fete-de-saint-ambroise/
LOCATION:Église Saint-Ambroise\, 71 bis Boulevard Voltaire\, Paris\, 75011\, France
CATEGORIES:Messe
ATTACH;FMTTYPE=image/jpeg:https://saint-ambroise.com/wp-content/uploads/2020/10/saint-ambroise-fete.jpg
ORGANIZER;CN="Paroisse Saint Ambroise":MAILTO:paroisse@saint-ambroise.com
END:VEVENT
BEGIN:VEVENT
DTSTART;TZID=Europe/Paris:20251206T140000
DTEND;TZID=Europe/Paris:20251206T163000
DTSTAMP:20260420T190906
CREATED:20251202T202048Z
LAST-MODIFIED:20251202T202147Z
UID:13966-1765029600-1765038600@saint-ambroise.com
SUMMARY:Église ouverte - Mission de Noël
DESCRIPTION:Église ouverte le 6 décembre 2024\n\n\n\nPour entrer dans l’Avent\, un moment de rencontre missionnaire aura lieu devant et dans l’église le samedi 6 décembre de 14h00 à 16h30. \n\n\n\nChacun trouvera sa place pour cette mission paroissiale qui est destinée à accueillir toutes les personnes du quartier : \n\n\n\n\ndistribution de vin chaud\,\n\n\n\naccueil et visite de l’église\,\n\n\n\nécoute ou confession\,\n\n\n\nadoration et chant\,\n\n\n\nprière à la crèche et animations sur le parvis…\n\n\n\n\nL’église Saint-Ambroise ouvre grand ses portes à tout le quartier. \n\n\n\n\n© Saint Ambroise\n\n\n\n© Saint Ambroise\n\n\n\n© Saint Ambroise
URL:https://saint-ambroise.com/event/eglise-ouverte/
LOCATION:Église Saint-Ambroise\, 71 bis Boulevard Voltaire\, Paris\, 75011\, France
ATTACH;FMTTYPE=image/jpeg:https://saint-ambroise.com/wp-content/uploads/2022/12/adoration-louange-sacrement.jpg
ORGANIZER;CN="Paroisse Saint Ambroise":MAILTO:paroisse@saint-ambroise.com
END:VEVENT
END:VCALENDAR