BEGIN:VCALENDAR
VERSION:2.0
PRODID:-//Paroisse Saint Ambroise - ECPv6.15.13//NONSGML v1.0//EN
CALSCALE:GREGORIAN
METHOD:PUBLISH
X-WR-CALNAME:Paroisse Saint Ambroise
X-ORIGINAL-URL:https://saint-ambroise.com
X-WR-CALDESC:Évènements pour Paroisse Saint Ambroise
REFRESH-INTERVAL;VALUE=DURATION:PT1H
X-Robots-Tag:noindex
X-PUBLISHED-TTL:PT1H
BEGIN:VTIMEZONE
TZID:Europe/Paris
BEGIN:DAYLIGHT
TZOFFSETFROM:+0100
TZOFFSETTO:+0200
TZNAME:CEST
DTSTART:20240331T010000
END:DAYLIGHT
BEGIN:STANDARD
TZOFFSETFROM:+0200
TZOFFSETTO:+0100
TZNAME:CET
DTSTART:20241027T010000
END:STANDARD
BEGIN:DAYLIGHT
TZOFFSETFROM:+0100
TZOFFSETTO:+0200
TZNAME:CEST
DTSTART:20250330T010000
END:DAYLIGHT
BEGIN:STANDARD
TZOFFSETFROM:+0200
TZOFFSETTO:+0100
TZNAME:CET
DTSTART:20251026T010000
END:STANDARD
BEGIN:DAYLIGHT
TZOFFSETFROM:+0100
TZOFFSETTO:+0200
TZNAME:CEST
DTSTART:20260329T010000
END:DAYLIGHT
BEGIN:STANDARD
TZOFFSETFROM:+0200
TZOFFSETTO:+0100
TZNAME:CET
DTSTART:20261025T010000
END:STANDARD
END:VTIMEZONE
BEGIN:VEVENT
DTSTART;TZID=Europe/Paris:20251224T183000
DTEND;TZID=Europe/Paris:20251224T193000
DTSTAMP:20260420T190755
CREATED:20251215T201111Z
LAST-MODIFIED:20251215T201112Z
UID:2784-1766601000-1766604600@saint-ambroise.com
SUMMARY:Messe du soir de Noël - 1ère messe
DESCRIPTION:Domaine public\n\n\n\nMesse du soir de Noël à Saint Ambroise – Messe des familles\n\n\n\n\nPremière messe de Noël à 18h30 à Saint-Ambroise\n\n\n\nPour plus d’informations\, voir la feuille paroissiale de Saint Ambroise (FIP).\n\n\n\n\n\n\n\n© Saint Ambroise\n\n\n\n© Saint Ambroise\n\n\n\nDomaine public
URL:https://saint-ambroise.com/event/messe-du-soir-de-noel/
LOCATION:Église Saint-Ambroise\, 71 bis Boulevard Voltaire\, Paris\, 75011\, France
CATEGORIES:Messe,Noël
ATTACH;FMTTYPE=image/jpeg:https://saint-ambroise.com/wp-content/uploads/2025/12/Noel-2025-St-Ambroise_Vignette.jpg
END:VEVENT
BEGIN:VEVENT
DTSTART;TZID=Europe/Paris:20251224T230000
DTEND;TZID=Europe/Paris:20251224T235900
DTSTAMP:20260420T190755
CREATED:20251215T201043Z
LAST-MODIFIED:20251215T201044Z
UID:2788-1766617200-1766620740@saint-ambroise.com
SUMMARY:Messe de la nuit de Noël - 2ème messe
DESCRIPTION:© Saint Ambroise – Messe de la nuit de Noël\n\n\n\nMesse de la nuit de Noël à Saint Ambroise\n\n\n\nLa 2ème messe de Noël est à 23h00 à Saint-Ambroise. \n\n\n\nPour plus d’informations\, veuillez cliquer ici. \n\n\n\n\n\n\n© Saint Ambroise\n\n\n\n© Saint Ambroise\n\n\n\n© Saint Ambroise\nMesse de la nuit de Noël
URL:https://saint-ambroise.com/event/messe-de-la-nuit-de-noel/
LOCATION:Église Saint-Ambroise\, 71 bis Boulevard Voltaire\, Paris\, 75011\, France
CATEGORIES:Noël
ATTACH;FMTTYPE=image/jpeg:https://saint-ambroise.com/wp-content/uploads/2020/12/creche-noel-marie-joseph-jesus.jpg
END:VEVENT
END:VCALENDAR