BEGIN:VCALENDAR
VERSION:2.0
PRODID:-//Paroisse Saint Ambroise - ECPv6.15.13//NONSGML v1.0//EN
CALSCALE:GREGORIAN
METHOD:PUBLISH
X-ORIGINAL-URL:https://saint-ambroise.com
X-WR-CALDESC:Évènements pour Paroisse Saint Ambroise
REFRESH-INTERVAL;VALUE=DURATION:PT1H
X-Robots-Tag:noindex
X-PUBLISHED-TTL:PT1H
BEGIN:VTIMEZONE
TZID:Europe/Paris
BEGIN:DAYLIGHT
TZOFFSETFROM:+0100
TZOFFSETTO:+0200
TZNAME:CEST
DTSTART:20200329T010000
END:DAYLIGHT
BEGIN:STANDARD
TZOFFSETFROM:+0200
TZOFFSETTO:+0100
TZNAME:CET
DTSTART:20201025T010000
END:STANDARD
BEGIN:DAYLIGHT
TZOFFSETFROM:+0100
TZOFFSETTO:+0200
TZNAME:CEST
DTSTART:20210328T010000
END:DAYLIGHT
BEGIN:STANDARD
TZOFFSETFROM:+0200
TZOFFSETTO:+0100
TZNAME:CET
DTSTART:20211031T010000
END:STANDARD
BEGIN:DAYLIGHT
TZOFFSETFROM:+0100
TZOFFSETTO:+0200
TZNAME:CEST
DTSTART:20220327T010000
END:DAYLIGHT
BEGIN:STANDARD
TZOFFSETFROM:+0200
TZOFFSETTO:+0100
TZNAME:CET
DTSTART:20221030T010000
END:STANDARD
END:VTIMEZONE
BEGIN:VEVENT
DTSTART;TZID=Europe/Paris:20210617T200000
DTEND;TZID=Europe/Paris:20210617T210000
DTSTAMP:20260423T194205
CREATED:20210527T202843Z
LAST-MODIFIED:20211012T111647Z
UID:6035-1623960000-1623963600@saint-ambroise.com
SUMMARY:Conférence à Saint Ambroise
DESCRIPTION:Conférence sur la force du pardon\n\n\n\nTémoignage de Fouad Hassoun\, auteur du livre « J’ai pardonné  » avec Benoît de Blanpré et du père Pascal Nègre.
URL:https://saint-ambroise.com/event/conference-saint-ambroise/
LOCATION:Église Saint-Ambroise\, 71 bis Boulevard Voltaire\, Paris\, 75011\, France
CATEGORIES:Conférence
ATTACH;FMTTYPE=image/jpeg:https://saint-ambroise.com/wp-content/uploads/2021/05/conference-saint-ambroise-2021-05-17.jpg
ORGANIZER;CN="Echoppe Saint Ambroise":MAILTO:echoppesaintambroise@gmail.com
END:VEVENT
END:VCALENDAR