BEGIN:VCALENDAR
VERSION:2.0
PRODID:-//Paroisse Saint Ambroise - ECPv6.15.13//NONSGML v1.0//EN
CALSCALE:GREGORIAN
METHOD:PUBLISH
X-ORIGINAL-URL:https://saint-ambroise.com
X-WR-CALDESC:Évènements pour Paroisse Saint Ambroise
REFRESH-INTERVAL;VALUE=DURATION:PT1H
X-Robots-Tag:noindex
X-PUBLISHED-TTL:PT1H
BEGIN:VTIMEZONE
TZID:Europe/Paris
BEGIN:DAYLIGHT
TZOFFSETFROM:+0100
TZOFFSETTO:+0200
TZNAME:CEST
DTSTART:20210328T010000
END:DAYLIGHT
BEGIN:STANDARD
TZOFFSETFROM:+0200
TZOFFSETTO:+0100
TZNAME:CET
DTSTART:20211031T010000
END:STANDARD
BEGIN:DAYLIGHT
TZOFFSETFROM:+0100
TZOFFSETTO:+0200
TZNAME:CEST
DTSTART:20220327T010000
END:DAYLIGHT
BEGIN:STANDARD
TZOFFSETFROM:+0200
TZOFFSETTO:+0100
TZNAME:CET
DTSTART:20221030T010000
END:STANDARD
BEGIN:DAYLIGHT
TZOFFSETFROM:+0100
TZOFFSETTO:+0200
TZNAME:CEST
DTSTART:20230326T010000
END:DAYLIGHT
BEGIN:STANDARD
TZOFFSETFROM:+0200
TZOFFSETTO:+0100
TZNAME:CET
DTSTART:20231029T010000
END:STANDARD
END:VTIMEZONE
BEGIN:VEVENT
DTSTART;TZID=Europe/Paris:20220815T110000
DTEND;TZID=Europe/Paris:20220815T183000
DTSTAMP:20260422T050752
CREATED:20201228T141240Z
LAST-MODIFIED:20211012T112213Z
UID:3028-1660561200-1660588200@saint-ambroise.com
SUMMARY:Assomption de la Vierge Marie
DESCRIPTION:Célébration de l’Assomption de la Vierge\nLe 15 août\, on fête Marie qui a été élevée à la gloire du ciel. \n\n\n\n\nMesses à 11h00 et 18h30 dans l’église de Saint Ambroise. \n\n\n\n\nPour connaitre le programme\, veuillez consulter la feuille paroissiale de Saint Ambroise.
URL:https://saint-ambroise.com/event/assomption-de-la-vierge-marie/
LOCATION:Église Saint-Ambroise\, 71 bis Boulevard Voltaire\, Paris\, 75011\, France
CATEGORIES:Fête
ATTACH;FMTTYPE=image/jpeg:https://saint-ambroise.com/wp-content/uploads/2020/12/Assomption-de-Marie.jpg
END:VEVENT
END:VCALENDAR