BEGIN:VCALENDAR
VERSION:2.0
PRODID:-//Paroisse Saint Ambroise - ECPv6.15.13//NONSGML v1.0//EN
CALSCALE:GREGORIAN
METHOD:PUBLISH
X-ORIGINAL-URL:https://saint-ambroise.com
X-WR-CALDESC:Évènements pour Paroisse Saint Ambroise
REFRESH-INTERVAL;VALUE=DURATION:PT1H
X-Robots-Tag:noindex
X-PUBLISHED-TTL:PT1H
BEGIN:VTIMEZONE
TZID:Europe/Paris
BEGIN:DAYLIGHT
TZOFFSETFROM:+0100
TZOFFSETTO:+0200
TZNAME:CEST
DTSTART:20220327T010000
END:DAYLIGHT
BEGIN:STANDARD
TZOFFSETFROM:+0200
TZOFFSETTO:+0100
TZNAME:CET
DTSTART:20221030T010000
END:STANDARD
BEGIN:DAYLIGHT
TZOFFSETFROM:+0100
TZOFFSETTO:+0200
TZNAME:CEST
DTSTART:20230326T010000
END:DAYLIGHT
BEGIN:STANDARD
TZOFFSETFROM:+0200
TZOFFSETTO:+0100
TZNAME:CET
DTSTART:20231029T010000
END:STANDARD
BEGIN:DAYLIGHT
TZOFFSETFROM:+0100
TZOFFSETTO:+0200
TZNAME:CEST
DTSTART:20240331T010000
END:DAYLIGHT
BEGIN:STANDARD
TZOFFSETFROM:+0200
TZOFFSETTO:+0100
TZNAME:CET
DTSTART:20241027T010000
END:STANDARD
END:VTIMEZONE
BEGIN:VEVENT
DTSTART;TZID=Europe/Paris:20230202T121500
DTEND;TZID=Europe/Paris:20230202T190000
DTSTAMP:20260421T205729
CREATED:20230121T143900Z
LAST-MODIFIED:20230121T145015Z
UID:2978-1675340100-1675364400@saint-ambroise.com
SUMMARY:Chandeleur - Bénédiction des lumières et procession
DESCRIPTION:Présentation de Jésus au Temple\n\n\n\nLa fête de la Présentation de Jésus au Temple\, aussi appelée fête de la purification\, est plus connue sous le nom populaire de Chandeleur. \n\n\n\nCette journée du jeudi 2 février est aussi la journée de la vie consacrée. Les messes chantées auront lieu en paroisse à 12h15 et 19h00\, chacune précédée de la bénédiction des lumières et d’une petite procession. \n\n\n\nPour plus d’informations\, veuillez consulter les feuilles paroissiales de Saint Ambroise. \n\n\n\n\n\n\n\n\n\n\n\n\n\n\n© Saint Ambroise
URL:https://saint-ambroise.com/event/chandeleur/
LOCATION:Église Saint-Ambroise\, 71 bis Boulevard Voltaire\, Paris\, 75011\, France
CATEGORIES:Fête
ATTACH;FMTTYPE=image/jpeg:https://saint-ambroise.com/wp-content/uploads/2020/12/chandeleur.jpg
END:VEVENT
END:VCALENDAR