BEGIN:VCALENDAR
VERSION:2.0
PRODID:-//Paroisse Saint Ambroise - ECPv6.15.13//NONSGML v1.0//EN
CALSCALE:GREGORIAN
METHOD:PUBLISH
X-WR-CALNAME:Paroisse Saint Ambroise
X-ORIGINAL-URL:https://saint-ambroise.com
X-WR-CALDESC:Évènements pour Paroisse Saint Ambroise
REFRESH-INTERVAL;VALUE=DURATION:PT1H
X-Robots-Tag:noindex
X-PUBLISHED-TTL:PT1H
BEGIN:VTIMEZONE
TZID:Europe/Paris
BEGIN:DAYLIGHT
TZOFFSETFROM:+0100
TZOFFSETTO:+0200
TZNAME:CEST
DTSTART:20220327T010000
END:DAYLIGHT
BEGIN:STANDARD
TZOFFSETFROM:+0200
TZOFFSETTO:+0100
TZNAME:CET
DTSTART:20221030T010000
END:STANDARD
BEGIN:DAYLIGHT
TZOFFSETFROM:+0100
TZOFFSETTO:+0200
TZNAME:CEST
DTSTART:20230326T010000
END:DAYLIGHT
BEGIN:STANDARD
TZOFFSETFROM:+0200
TZOFFSETTO:+0100
TZNAME:CET
DTSTART:20231029T010000
END:STANDARD
BEGIN:DAYLIGHT
TZOFFSETFROM:+0100
TZOFFSETTO:+0200
TZNAME:CEST
DTSTART:20240331T010000
END:DAYLIGHT
BEGIN:STANDARD
TZOFFSETFROM:+0200
TZOFFSETTO:+0100
TZNAME:CET
DTSTART:20241027T010000
END:STANDARD
END:VTIMEZONE
BEGIN:VEVENT
DTSTART;TZID=Europe/Paris:20230325T150000
DTEND;TZID=Europe/Paris:20230325T180000
DTSTAMP:20260421T193704
CREATED:20230303T181300Z
LAST-MODIFIED:20230303T225044Z
UID:12219-1679756400-1679767200@saint-ambroise.com
SUMMARY:Opération Eglise ouverte
DESCRIPTION:Pour l’Annonciation\, le samedi 25 mars de 15h à 18h\, tous les paroissiens sont invités à se joindre à l’opération Eglise ouverte. Ne faisons pas de la synodalité ou de la fraternité des mots vains ou des concepts vides. Venez donc vivre ce temps paroissial de rencontre\, pour une heure\, deux heures ou 15 minutes ! \n\n\n\nSaint-Ambroise ouvre ses portes pour un temps joyeux d’accueil\, de prière\, de chants et de partage. \n\n\n\nPlusieurs options possibles pour participer : accueillir les passants\, aller à leur rencontre\, offrir un café\, présenter la vie paroissiale ou échanger librement\, retrouver des paroissiens que l’on ne voit jamais\, faire visiter notre belle église\, prendre un temps de prière… Une courte formation à la rencontre sera proposée. \n\n\n\nContact : Estelle & Henry Duriez – 06 07 44 73 13 estelle.debuyer@essec.edu
URL:https://saint-ambroise.com/event/operation-eglise-ouverte/
LOCATION:Église Saint-Ambroise\, 71 bis Boulevard Voltaire\, Paris\, 75011\, France
CATEGORIES:A la une,Fête
ATTACH;FMTTYPE=image/jpeg:https://saint-ambroise.com/wp-content/uploads/2022/12/adoration-louange-sacrement.jpg
ORGANIZER;CN="Paroisse Saint Ambroise":MAILTO:paroisse@saint-ambroise.com
END:VEVENT
END:VCALENDAR