BEGIN:VCALENDAR
VERSION:2.0
PRODID:-//Paroisse Saint Ambroise - ECPv6.15.13//NONSGML v1.0//EN
CALSCALE:GREGORIAN
METHOD:PUBLISH
X-ORIGINAL-URL:https://saint-ambroise.com
X-WR-CALDESC:Évènements pour Paroisse Saint Ambroise
REFRESH-INTERVAL;VALUE=DURATION:PT1H
X-Robots-Tag:noindex
X-PUBLISHED-TTL:PT1H
BEGIN:VTIMEZONE
TZID:Europe/Paris
BEGIN:DAYLIGHT
TZOFFSETFROM:+0100
TZOFFSETTO:+0200
TZNAME:CEST
DTSTART:20220327T010000
END:DAYLIGHT
BEGIN:STANDARD
TZOFFSETFROM:+0200
TZOFFSETTO:+0100
TZNAME:CET
DTSTART:20221030T010000
END:STANDARD
BEGIN:DAYLIGHT
TZOFFSETFROM:+0100
TZOFFSETTO:+0200
TZNAME:CEST
DTSTART:20230326T010000
END:DAYLIGHT
BEGIN:STANDARD
TZOFFSETFROM:+0200
TZOFFSETTO:+0100
TZNAME:CET
DTSTART:20231029T010000
END:STANDARD
BEGIN:DAYLIGHT
TZOFFSETFROM:+0100
TZOFFSETTO:+0200
TZNAME:CEST
DTSTART:20240331T010000
END:DAYLIGHT
BEGIN:STANDARD
TZOFFSETFROM:+0200
TZOFFSETTO:+0100
TZNAME:CET
DTSTART:20241027T010000
END:STANDARD
END:VTIMEZONE
BEGIN:VEVENT
DTSTART;TZID=Europe/Paris:20230603T190000
DTEND;TZID=Europe/Paris:20230603T235900
DTSTAMP:20260421T153401
CREATED:20230526T203005Z
LAST-MODIFIED:20230528T145441Z
UID:12665-1685818800-1685836740@saint-ambroise.com
SUMMARY:Nuit Blanche 2023 à Paris
DESCRIPTION:Nuit Blanche 2023 à Saint Ambroise de Paris\n\n\n\nEn lien avec la ville de Paris et le service Art\,Culture et Foi du diocèse\, notre église Saint-Ambroise participera à l’opération « Nuit Blanche » au cours de la soirée du 3 juin 2023 (de 19h à minuit)\, en accueillant dans la chapelle Sainte Geneviève\, l’œuvre d’art crée pour l’occasion par l’artiste Sandra Matamoros.Entrée libre !
URL:https://saint-ambroise.com/event/nuit-blanche-2023-a-paris/
LOCATION:Église Saint-Ambroise\, 71 bis Boulevard Voltaire\, Paris\, 75011\, France
CATEGORIES:Fête,Spectacle
ATTACH;FMTTYPE=image/jpeg:https://saint-ambroise.com/wp-content/uploads/2023/05/nuit-blanche-paris-2023-banniere.jpg
ORGANIZER;CN="Paroisse Saint Ambroise":MAILTO:paroisse@saint-ambroise.com
END:VEVENT
BEGIN:VEVENT
DTSTART;TZID=Europe/Paris:20230618T120000
DTEND;TZID=Europe/Paris:20230618T170000
DTSTAMP:20260421T153401
CREATED:20230609T211000Z
LAST-MODIFIED:20230609T212103Z
UID:1390-1687089600-1687107600@saint-ambroise.com
SUMMARY:Fête de la Maison du Sept - 2023
DESCRIPTION:Grande fête à la Maison du Sept\n\n\n\nComme chaque année à la Maison du Sept de Saint Ambroise\, petits et grands se retrouvent pour la Fête de la Maison du Sept autour de stands\, brocantes\, animations et repas pour un moment convivial. \n\n\n\nVenez partager un moment festif en famille ou entre amis \n\n\n\nStands 2023 à la Maison du Sept\n\n\n\n\nRestauration\,\n\n\n\nCrêpes\,\n\n\n\nAnimation musicale de l’Aumônerie du 7\,\n\n\n\nConcert de musique\n\n\n\n\n\n\n\n\n\n\n\n\n\n\n\n© Saint Ambroise\n\n\n\n© Saint Ambroise\n\n\n\n© Saint Ambroise
URL:https://saint-ambroise.com/event/fete-de-la-maison-du-sept/
LOCATION:La Maison du Sept\, 7 Passage Saint-Ambroise\, Paris\, 75011\, France
CATEGORIES:Fête,Maison du Sept
ATTACH;FMTTYPE=image/jpeg:https://saint-ambroise.com/wp-content/uploads/2020/09/Fete_de_la_Maison_du_Sept_2023_couv.jpg
END:VEVENT
END:VCALENDAR