BEGIN:VCALENDAR
VERSION:2.0
PRODID:-//Paroisse Saint Ambroise - ECPv6.15.13//NONSGML v1.0//EN
CALSCALE:GREGORIAN
METHOD:PUBLISH
X-WR-CALNAME:Paroisse Saint Ambroise
X-ORIGINAL-URL:https://saint-ambroise.com
X-WR-CALDESC:Évènements pour Paroisse Saint Ambroise
REFRESH-INTERVAL;VALUE=DURATION:PT1H
X-Robots-Tag:noindex
X-PUBLISHED-TTL:PT1H
BEGIN:VTIMEZONE
TZID:Europe/Paris
BEGIN:DAYLIGHT
TZOFFSETFROM:+0100
TZOFFSETTO:+0200
TZNAME:CEST
DTSTART:20200329T010000
END:DAYLIGHT
BEGIN:STANDARD
TZOFFSETFROM:+0200
TZOFFSETTO:+0100
TZNAME:CET
DTSTART:20201025T010000
END:STANDARD
BEGIN:DAYLIGHT
TZOFFSETFROM:+0100
TZOFFSETTO:+0200
TZNAME:CEST
DTSTART:20210328T010000
END:DAYLIGHT
BEGIN:STANDARD
TZOFFSETFROM:+0200
TZOFFSETTO:+0100
TZNAME:CET
DTSTART:20211031T010000
END:STANDARD
BEGIN:DAYLIGHT
TZOFFSETFROM:+0100
TZOFFSETTO:+0200
TZNAME:CEST
DTSTART:20220327T010000
END:DAYLIGHT
BEGIN:STANDARD
TZOFFSETFROM:+0200
TZOFFSETTO:+0100
TZNAME:CET
DTSTART:20221030T010000
END:STANDARD
END:VTIMEZONE
BEGIN:VEVENT
DTSTART;TZID=Europe/Paris:20210103T000000
DTEND;TZID=Europe/Paris:20210111T235959
DTSTAMP:20260423T100257
CREATED:20201227T193932Z
LAST-MODIFIED:20241207T100658Z
UID:2989-1609632000-1610409599@saint-ambroise.com
SUMMARY:Neuvaine Sainte-Geneviève - 2021
DESCRIPTION:Ouverture de la Neuvaine Sainte-Geneviève\nPour l’année sainte Geneviève en 2021\, la neuvaine sera consacrée aux personnels soignants. \nPour plus d’informations\, veuillez consulter les feuilles paroissiales de Saint Ambroise. \n\n\n\n\n\n© Saint Ambroise\n\n\n\n\n\n\n\n© Saint Ambroise
URL:https://saint-ambroise.com/event/neuvaine-sainte-genevieve/
LOCATION:Église Saint-Ambroise\, 71 bis Boulevard Voltaire\, Paris\, 75011\, France
CATEGORIES:Fête
ATTACH;FMTTYPE=image/jpeg:https://saint-ambroise.com/wp-content/uploads/2020/12/sainte-genevieve.jpg
END:VEVENT
END:VCALENDAR