BEGIN:VCALENDAR
VERSION:2.0
PRODID:-//Paroisse Saint Ambroise - ECPv6.15.13//NONSGML v1.0//EN
CALSCALE:GREGORIAN
METHOD:PUBLISH
X-ORIGINAL-URL:https://saint-ambroise.com
X-WR-CALDESC:Évènements pour Paroisse Saint Ambroise
REFRESH-INTERVAL;VALUE=DURATION:PT1H
X-Robots-Tag:noindex
X-PUBLISHED-TTL:PT1H
BEGIN:VTIMEZONE
TZID:Europe/Paris
BEGIN:DAYLIGHT
TZOFFSETFROM:+0100
TZOFFSETTO:+0200
TZNAME:CEST
DTSTART:20200329T010000
END:DAYLIGHT
BEGIN:STANDARD
TZOFFSETFROM:+0200
TZOFFSETTO:+0100
TZNAME:CET
DTSTART:20201025T010000
END:STANDARD
BEGIN:DAYLIGHT
TZOFFSETFROM:+0100
TZOFFSETTO:+0200
TZNAME:CEST
DTSTART:20210328T010000
END:DAYLIGHT
BEGIN:STANDARD
TZOFFSETFROM:+0200
TZOFFSETTO:+0100
TZNAME:CET
DTSTART:20211031T010000
END:STANDARD
BEGIN:DAYLIGHT
TZOFFSETFROM:+0100
TZOFFSETTO:+0200
TZNAME:CEST
DTSTART:20220327T010000
END:DAYLIGHT
BEGIN:STANDARD
TZOFFSETFROM:+0200
TZOFFSETTO:+0100
TZNAME:CET
DTSTART:20221030T010000
END:STANDARD
END:VTIMEZONE
BEGIN:VEVENT
DTSTART;TZID=Europe/Paris:20211208T191500
DTEND;TZID=Europe/Paris:20211208T220000
DTSTAMP:20260422T164613
CREATED:20210220T230348Z
LAST-MODIFIED:20211201T122317Z
UID:4072-1638990900-1639000800@saint-ambroise.com
SUMMARY:La Marche de Saint-Joseph
DESCRIPTION:Fêter la fin de l’année Saint-Joseph\n\n\n\nLa Marche des hommes et des pères d’ile-de-France propose de clôturer l’Année saint Joseph\, le 8 décembre 2021\, par une marche des familles\, sous forme de procession de nuit\, au départ de l’église St-Augustin à 19h15. \n\n\n\nAprès un temps de témoignage de 19h30 à 20h15\, le départ de la procession aux flambeaux sera donné à 20h30\, pour rejoindre le Sacré-Cœur de Montmartre (18º)\, et assister à la messe de 22h. \n\n\n\nToutes les familles sont invitées. \n\n\n\nPour plus d’informations sur la Marche de Saint-Joseph pour les paroissiens de Saint Ambroise : \n\n\n\nenvoyez un email : marchedesaintjosephstambroise@gmail.comconsultez le site officiel\n\n\n\n\n\n© Saint Ambroise© josephdenazareth.com© Saint Ambroise
URL:https://saint-ambroise.com/event/la-marche-de-saint-joseph/
CATEGORIES:Fête,Rencontre
ATTACH;FMTTYPE=image/jpeg:https://saint-ambroise.com/wp-content/uploads/2021/03/saint-joseph-bougie.jpg
ORGANIZER;CN="Marche de St Joseph":MAILTO:marchedesaintjosephstambroise@gmail.com
END:VEVENT
END:VCALENDAR