BEGIN:VCALENDAR
VERSION:2.0
PRODID:-//Paroisse Saint Ambroise - ECPv6.15.13//NONSGML v1.0//EN
CALSCALE:GREGORIAN
METHOD:PUBLISH
X-ORIGINAL-URL:https://saint-ambroise.com
X-WR-CALDESC:Évènements pour Paroisse Saint Ambroise
REFRESH-INTERVAL;VALUE=DURATION:PT1H
X-Robots-Tag:noindex
X-PUBLISHED-TTL:PT1H
BEGIN:VTIMEZONE
TZID:Europe/Paris
BEGIN:DAYLIGHT
TZOFFSETFROM:+0100
TZOFFSETTO:+0200
TZNAME:CEST
DTSTART:20210328T010000
END:DAYLIGHT
BEGIN:STANDARD
TZOFFSETFROM:+0200
TZOFFSETTO:+0100
TZNAME:CET
DTSTART:20211031T010000
END:STANDARD
BEGIN:DAYLIGHT
TZOFFSETFROM:+0100
TZOFFSETTO:+0200
TZNAME:CEST
DTSTART:20220327T010000
END:DAYLIGHT
BEGIN:STANDARD
TZOFFSETFROM:+0200
TZOFFSETTO:+0100
TZNAME:CET
DTSTART:20221030T010000
END:STANDARD
BEGIN:DAYLIGHT
TZOFFSETFROM:+0100
TZOFFSETTO:+0200
TZNAME:CEST
DTSTART:20230326T010000
END:DAYLIGHT
BEGIN:STANDARD
TZOFFSETFROM:+0200
TZOFFSETTO:+0100
TZNAME:CET
DTSTART:20231029T010000
END:STANDARD
END:VTIMEZONE
BEGIN:VEVENT
DTSTART;TZID=Europe/Paris:20221019T190000
DTEND;TZID=Europe/Paris:20221019T200000
DTSTAMP:20260422T035140
CREATED:20221011T190000Z
LAST-MODIFIED:20221120T105247Z
UID:7888-1666206000-1666209600@saint-ambroise.com
SUMMARY:Jerzy Popieluszko messe
DESCRIPTION:Jerzy Popieluszko messe anniversaire du bienheureux 2022 \n\n\n\n\n\nLe mercredi 19 octobre 2022 à 19h00 à Saint-Joseph des Nations sera célébrée une messe solennelle à l’occasion de l’anniversaire de la mort du bienheureux Jerzy Popieluszko. \n\n\n\n\n\n\n\n\n\n\n\n\n\n\n\nPrière d’action de grâces du bienheureux Jerzy Popieluszko\n\n\n\nPopieluszko_Jerzy_Prière_FR_2022Télécharger
URL:https://saint-ambroise.com/event/jerzy-popieluszko-messe-anniversaire/
LOCATION:Saint-Joseph des Nations\, 161 bis\, rue Saint Maur\, Paris\, 75011\, France
CATEGORIES:Fête,Messe
ATTACH;FMTTYPE=image/jpeg:https://saint-ambroise.com/wp-content/uploads/2021/10/Popieluszko_messe_2022_tract.jpg
ORGANIZER;CN="Paroisse Saint-Joseph des Nations":MAILTO:paroisse@saintjosephdesnations.fr
END:VEVENT
END:VCALENDAR