BEGIN:VCALENDAR
VERSION:2.0
PRODID:-//Paroisse Saint Ambroise - ECPv6.15.13//NONSGML v1.0//EN
CALSCALE:GREGORIAN
METHOD:PUBLISH
X-ORIGINAL-URL:https://saint-ambroise.com
X-WR-CALDESC:Évènements pour Paroisse Saint Ambroise
REFRESH-INTERVAL;VALUE=DURATION:PT1H
X-Robots-Tag:noindex
X-PUBLISHED-TTL:PT1H
BEGIN:VTIMEZONE
TZID:Europe/Paris
BEGIN:DAYLIGHT
TZOFFSETFROM:+0100
TZOFFSETTO:+0200
TZNAME:CEST
DTSTART:20200329T010000
END:DAYLIGHT
BEGIN:STANDARD
TZOFFSETFROM:+0200
TZOFFSETTO:+0100
TZNAME:CET
DTSTART:20201025T010000
END:STANDARD
BEGIN:DAYLIGHT
TZOFFSETFROM:+0100
TZOFFSETTO:+0200
TZNAME:CEST
DTSTART:20210328T010000
END:DAYLIGHT
BEGIN:STANDARD
TZOFFSETFROM:+0200
TZOFFSETTO:+0100
TZNAME:CET
DTSTART:20211031T010000
END:STANDARD
BEGIN:DAYLIGHT
TZOFFSETFROM:+0100
TZOFFSETTO:+0200
TZNAME:CEST
DTSTART:20220327T010000
END:DAYLIGHT
BEGIN:STANDARD
TZOFFSETFROM:+0200
TZOFFSETTO:+0100
TZNAME:CET
DTSTART:20221030T010000
END:STANDARD
END:VTIMEZONE
BEGIN:VEVENT
DTSTART;TZID=Europe/Paris:20211217T200000
DTEND;TZID=Europe/Paris:20211217T210000
DTSTAMP:20260425T130525
CREATED:20211205T134822Z
LAST-MODIFIED:20211210T212100Z
UID:9030-1639771200-1639774800@saint-ambroise.com
SUMMARY:La Pastorale de la Ruche
DESCRIPTION:La Pastorale de la Ruche vous invite\n\n\n\nLes enfants et les jeunes du patronage vous invitent chaleureusement à leur spectacle de Noël\, inspiré de la pastorale des santons de Provence : la Pastorale de la Ruche. Vendredi 17 décembre 2021 à 20h00 à la salle Saint-Ambroise \n\n\n\nVenez nombreux ! \n\n\n\nLa Ruche de Saint Ambroise\n\n\n\nLa Ruche est un patronage familial où petits et grands\, enfants et parents ont leur place. L’équipe de bénévoles (qui a besoin d’aide!) est très variée\, allant de jeunes lycéens aux personnes les plus âgées de notre paroisse. \n\n\n\nObjectif du spectacle\n\n\n\nLes fonds récoltés lors du spectacle de la Ruche permettra d’organiser un camp Spi&Ski (semaine de ski\, de prière et de vie fraternelle) en février 2022. \n\n\n\nComment s’inscrire ?\n\n\n\nPour s’inscrire et acheter son billet\, il faut juste envoyer un email à Pauline LUZI\, directrice du patronage : laruche.sta@gmail.com \n\n\n\nPrix du billet\n\n\n\nIl y a deux tarifs : \n\n\n\nBillet seul à 5€Billet + Album à 7€
URL:https://saint-ambroise.com/event/la-pastorale-de-la-ruche/
LOCATION:Salle Saint-Ambroise\, 1bis Rue Lacharrière\, Paris\, 75011\, France
CATEGORIES:A la une,Maison du Sept,Spectacle
ATTACH;FMTTYPE=image/jpeg:https://saint-ambroise.com/wp-content/uploads/2021/12/pastorale-de-la-ruche-couv.jpg
ORGANIZER;CN="Paroisse Saint Ambroise":MAILTO:paroisse@saint-ambroise.com
END:VEVENT
END:VCALENDAR