BEGIN:VCALENDAR
VERSION:2.0
PRODID:-//Paroisse Saint Ambroise - ECPv6.15.13//NONSGML v1.0//EN
CALSCALE:GREGORIAN
METHOD:PUBLISH
X-ORIGINAL-URL:https://saint-ambroise.com
X-WR-CALDESC:Évènements pour Paroisse Saint Ambroise
REFRESH-INTERVAL;VALUE=DURATION:PT1H
X-Robots-Tag:noindex
X-PUBLISHED-TTL:PT1H
BEGIN:VTIMEZONE
TZID:Europe/Paris
BEGIN:DAYLIGHT
TZOFFSETFROM:+0100
TZOFFSETTO:+0200
TZNAME:CEST
DTSTART:20220327T010000
END:DAYLIGHT
BEGIN:STANDARD
TZOFFSETFROM:+0200
TZOFFSETTO:+0100
TZNAME:CET
DTSTART:20221030T010000
END:STANDARD
BEGIN:DAYLIGHT
TZOFFSETFROM:+0100
TZOFFSETTO:+0200
TZNAME:CEST
DTSTART:20230326T010000
END:DAYLIGHT
BEGIN:STANDARD
TZOFFSETFROM:+0200
TZOFFSETTO:+0100
TZNAME:CET
DTSTART:20231029T010000
END:STANDARD
BEGIN:DAYLIGHT
TZOFFSETFROM:+0100
TZOFFSETTO:+0200
TZNAME:CEST
DTSTART:20240331T010000
END:DAYLIGHT
BEGIN:STANDARD
TZOFFSETFROM:+0200
TZOFFSETTO:+0100
TZNAME:CET
DTSTART:20241027T010000
END:STANDARD
END:VTIMEZONE
BEGIN:VEVENT
DTSTART;TZID=Europe/Paris:20230526T200000
DTEND;TZID=Europe/Paris:20230531T210000
DTSTAMP:20260422T035048
CREATED:20230401T090900Z
LAST-MODIFIED:20230526T200341Z
UID:12140-1685131200-1685566800@saint-ambroise.com
SUMMARY:JMJ 2023 Lisbonne
DESCRIPTION:Les inscriptions aux JMJ 2023 Lisbonne\n\n\n\nVous avez entre 18 et 35 ans\, ou vous désirez relayer l’information autour de vous ? \n\n\n\nBacheliers\, étudiants ou jeunes professionnels\, répondant à l’appel du pape à le retrouver à Lisbonne\, soyez-y bienvenus ! \n\n\n\nLes inscriptions sont encore ouvertes. Il suffit de : \n\n\n\n\n\n\ncliquer sur le lien ci-joint : https://notredamedellastrada2023-paris.venio.fr\n\n\n\nou encore simplement d’ouvrir l’application de la paroisse Oclocher.\n\n\n\n\nQuel est le programme ?\n\n\n\nPlus que 3 jours pour s’inscrire aux JMJ ! Et puisque rien ne doit empêcher nos jeunes\, étudiants et jeunes professionnels d’aller au Portugal à la rencontre du Pape et des jeunes du monde entier\, un soutien financier est possible grâce à la générosité de certains paroissiens de Saint Ambroise et diocésains de Paris. Qu’ils soient déjà remerciés ! \n\n\n\nContact et informations : pierrelouis.jmj23@gmail.com
URL:https://saint-ambroise.com/event/jmj-2023-lisbonne/
LOCATION:Maison Paroissiale de Saint-Ambroise\, 33 Avenue Parmentier\, Paris\, 75011\, France
CATEGORIES:Pélerinage
ATTACH;FMTTYPE=image/jpeg:https://saint-ambroise.com/wp-content/uploads/2023/01/banniere-site-internet-jmj.jpg
ORGANIZER;CN="Paroisse Saint Ambroise":MAILTO:paroisse@saint-ambroise.com
END:VEVENT
END:VCALENDAR