BEGIN:VCALENDAR
VERSION:2.0
PRODID:-//Paroisse Saint Ambroise - ECPv6.15.13//NONSGML v1.0//EN
CALSCALE:GREGORIAN
METHOD:PUBLISH
X-ORIGINAL-URL:https://saint-ambroise.com
X-WR-CALDESC:Évènements pour Paroisse Saint Ambroise
REFRESH-INTERVAL;VALUE=DURATION:PT1H
X-Robots-Tag:noindex
X-PUBLISHED-TTL:PT1H
BEGIN:VTIMEZONE
TZID:Europe/Paris
BEGIN:DAYLIGHT
TZOFFSETFROM:+0100
TZOFFSETTO:+0200
TZNAME:CEST
DTSTART:20210328T010000
END:DAYLIGHT
BEGIN:STANDARD
TZOFFSETFROM:+0200
TZOFFSETTO:+0100
TZNAME:CET
DTSTART:20211031T010000
END:STANDARD
BEGIN:DAYLIGHT
TZOFFSETFROM:+0100
TZOFFSETTO:+0200
TZNAME:CEST
DTSTART:20220327T010000
END:DAYLIGHT
BEGIN:STANDARD
TZOFFSETFROM:+0200
TZOFFSETTO:+0100
TZNAME:CET
DTSTART:20221030T010000
END:STANDARD
BEGIN:DAYLIGHT
TZOFFSETFROM:+0100
TZOFFSETTO:+0200
TZNAME:CEST
DTSTART:20230326T010000
END:DAYLIGHT
BEGIN:STANDARD
TZOFFSETFROM:+0200
TZOFFSETTO:+0100
TZNAME:CET
DTSTART:20231029T010000
END:STANDARD
END:VTIMEZONE
BEGIN:VEVENT
DTSTART;TZID=Europe/Paris:20221127T000000
DTEND;TZID=Europe/Paris:20221205T235959
DTSTAMP:20260423T205514
CREATED:20221126T214123Z
LAST-MODIFIED:20221126T214303Z
UID:11671-1669507200-1670284799@saint-ambroise.com
SUMMARY:Neuvaine pour le Père Pascal Nègre
DESCRIPTION:Neuvaine pour demander le rétablissement complet et durable du Père Pascal Nègre\n\n\n\n\n\nNeuvaine pour le Père Pascal Nègre par l’intercession de Paulin Enfert\n\n\n\nSEIGNEUR NOTRE DIEU\, sois-tu pour ton serviteur Paulin Enfert.Tu as mis en lui le souffle de l’amour créatif\,Tu l’as attiré à toi dans la prière confiante\,Tu l’as nourri de ta force par ton Eucharistie vivifiante\,Tu l’as rempli de ta douceur et de ton humilité patiente\,Tu l’as aidé à faire comprendre aux jeunes le sens de l’engagement joyeux au service des autres\,Tu as rendu inventive sa charité pour soutenir les blessés de la vie.Nous te prions aujourd’hui pour sa béatification.PAR SON INTERCESSION\, daigne\, Seigneur\,nous accorder le rétablissement complet et durable du Père Pascal Nègre.Donne-nous l’unique désir de vivre avec l’audace de t’aimer d’un cœur débordant d’allégresse.Aide-nous à être les apôtres de ta bonté et de ta miséricorde auprès des pauvres que tu aimes\,Nous te le demandons instamment\, Seigneur\, par Jésus-Christ ton Fils\, ton Bien-Aimé.Amen. \n\n\n\n \n\n\n\nNotre Père\n\n\n\nNotre Père\, qui es aux cieux\,que ton nom soit sanctifié\,que ton règne vienne\,que ta volonté soit faite sur la terre comme au ciel.Donne-nous aujourd’hui notre pain de ce jour.Pardonne-nous nos offenses\,comme nous pardonnons aussi à ceux qui nous ont offensés.Et ne nous laisse pas entrer en tentationmais délivre-nous du Mal.Amen \n\n\n\n \n\n\n\nJe vous salue Marie\n\n\n\nJe vous salue Marie\, pleine de grâce ;Le Seigneur est avec vous.Vous êtes bénie entre toutes les femmesEt Jésus\, le fruit de vos entrailles\, est béni.Sainte Marie\, Mère de Dieu\,Priez pour nous pauvres pécheurs\,Maintenant et à l’heure de notre mort.Amen \n\n\n\n \n\n\n\nNotre Dame de Paris\, priez pour nous.Notre Dame de Guadalupe\, priez pour nous.Saint Ambroise\, priez pour nous.Nos anges gardiens\, veillez sur nous. \n\n\n\n\n© D.R.\n\n\n\n© Saint Ambroise\n\n\n\n© Saint Ambroise\n\n\n\n\nQui est Paulin Enfert ?\n\n\n\nNé à Nevers le 5 juillet 1853 et mort à Gien le 1er septembre 1922\, Paulin Enfert est un militant et homme d’œuvres catholique. \n\n\n\nD’abord soucieux de catéchiser les jeunes du quartier de la Maison-Blanche\, dans le 13° arrondissement de Paris\, il les prépare en particulier à la première communion. Il rassemble quelques dizaines de jeunes désœuvrés le jeudi après-midi\, d’abord dans un fossé des fortifications. Ce laïc crée en 1888 le Patronage Saint-Joseph de la Maison Blanche. \n\n\n\nIl crée plusieurs œuvres de charité\, en particulier\, en 1891\, celle de La Mie de Pain\, qui existe toujours. Un soir\, un groupe d’enfant du patronage se désole de n’avoir rien à donner à manger aux pauvres qu’ils visitent. L’un d’eux\, ayant remarqué un oiseau mangeant un morceau de pain jeté à terre\, a cette réflexion : « On donne bien du pain aux oiseaux\, pourquoi ne pas en demander pour nourrir les gens ? ». \n\n\n\nLe Père Pascal Nègre travaille pour sa cause de béatification\, commencée en 2018. Nous le confions bien naturellement à son intercession.
URL:https://saint-ambroise.com/event/neuvaine-pere-pascal-negre/
LOCATION:Église Saint-Ambroise\, 71 bis Boulevard Voltaire\, Paris\, 75011\, France
CATEGORIES:Prière
ATTACH;FMTTYPE=image/jpeg:https://saint-ambroise.com/wp-content/uploads/2022/11/paulin_enfert_portrait_web.jpg
ORGANIZER;CN="Paroisse Saint Ambroise":MAILTO:paroisse@saint-ambroise.com
END:VEVENT
END:VCALENDAR