BEGIN:VCALENDAR
VERSION:2.0
PRODID:-//Paroisse Saint Ambroise - ECPv6.15.13//NONSGML v1.0//EN
CALSCALE:GREGORIAN
METHOD:PUBLISH
X-WR-CALNAME:Paroisse Saint Ambroise
X-ORIGINAL-URL:https://saint-ambroise.com
X-WR-CALDESC:Évènements pour Paroisse Saint Ambroise
REFRESH-INTERVAL;VALUE=DURATION:PT1H
X-Robots-Tag:noindex
X-PUBLISHED-TTL:PT1H
BEGIN:VTIMEZONE
TZID:Europe/Paris
BEGIN:DAYLIGHT
TZOFFSETFROM:+0100
TZOFFSETTO:+0200
TZNAME:CEST
DTSTART:20210328T010000
END:DAYLIGHT
BEGIN:STANDARD
TZOFFSETFROM:+0200
TZOFFSETTO:+0100
TZNAME:CET
DTSTART:20211031T010000
END:STANDARD
BEGIN:DAYLIGHT
TZOFFSETFROM:+0100
TZOFFSETTO:+0200
TZNAME:CEST
DTSTART:20220327T010000
END:DAYLIGHT
BEGIN:STANDARD
TZOFFSETFROM:+0200
TZOFFSETTO:+0100
TZNAME:CET
DTSTART:20221030T010000
END:STANDARD
BEGIN:DAYLIGHT
TZOFFSETFROM:+0100
TZOFFSETTO:+0200
TZNAME:CEST
DTSTART:20230326T010000
END:DAYLIGHT
BEGIN:STANDARD
TZOFFSETFROM:+0200
TZOFFSETTO:+0100
TZNAME:CET
DTSTART:20231029T010000
END:STANDARD
END:VTIMEZONE
BEGIN:VEVENT
DTSTART;TZID=Europe/Paris:20220118T000000
DTEND;TZID=Europe/Paris:20220125T235959
DTSTAMP:20260424T145530
CREATED:20210113T211047Z
LAST-MODIFIED:20230514T150838Z
UID:3273-1642464000-1643155199@saint-ambroise.com
SUMMARY:Semaine de prière pour l’unité chrétienne
DESCRIPTION:Semaine de prière 2021\nCette année\, le thème de la semaine de prière choisi est : \n\nDemeurez dans mon amour et vous porterez du fruit en abondance.(Jean 15\,1-17) \n\nLien >>> Prière pour l’unité des chrétiens \nCliquez-ici pour plus d’informations sur la semaine de prière 2022. \nPrières à Saint Ambroise\nPour connaitre toutes les prières de la paroisse Saint Ambroise\, cliquez-ici. \n\n\n\n\n\n\n\n\n\n\n\n\n\n© Saint Ambroise
URL:https://saint-ambroise.com/event/semaine-de-priere-pour-lunite-chretienne/
LOCATION:Union des Associations diocésaines de France\, 58\, avenue de Breteuil\, Paris\, 75007\, France
CATEGORIES:Prière
ATTACH;FMTTYPE=image/jpeg:https://saint-ambroise.com/wp-content/uploads/2021/01/unite-chretienne-affiche-web.jpg
END:VEVENT
END:VCALENDAR