BEGIN:VCALENDAR
VERSION:2.0
PRODID:-//Paroisse Saint Ambroise - ECPv6.15.13//NONSGML v1.0//EN
CALSCALE:GREGORIAN
METHOD:PUBLISH
X-ORIGINAL-URL:https://saint-ambroise.com
X-WR-CALDESC:Évènements pour Paroisse Saint Ambroise
REFRESH-INTERVAL;VALUE=DURATION:PT1H
X-Robots-Tag:noindex
X-PUBLISHED-TTL:PT1H
BEGIN:VTIMEZONE
TZID:Europe/Paris
BEGIN:DAYLIGHT
TZOFFSETFROM:+0100
TZOFFSETTO:+0200
TZNAME:CEST
DTSTART:20220327T010000
END:DAYLIGHT
BEGIN:STANDARD
TZOFFSETFROM:+0200
TZOFFSETTO:+0100
TZNAME:CET
DTSTART:20221030T010000
END:STANDARD
BEGIN:DAYLIGHT
TZOFFSETFROM:+0100
TZOFFSETTO:+0200
TZNAME:CEST
DTSTART:20230326T010000
END:DAYLIGHT
BEGIN:STANDARD
TZOFFSETFROM:+0200
TZOFFSETTO:+0100
TZNAME:CET
DTSTART:20231029T010000
END:STANDARD
BEGIN:DAYLIGHT
TZOFFSETFROM:+0100
TZOFFSETTO:+0200
TZNAME:CEST
DTSTART:20240331T010000
END:DAYLIGHT
BEGIN:STANDARD
TZOFFSETFROM:+0200
TZOFFSETTO:+0100
TZNAME:CET
DTSTART:20241027T010000
END:STANDARD
END:VTIMEZONE
BEGIN:VEVENT
DTSTART;TZID=Europe/Paris:20230523T193000
DTEND;TZID=Europe/Paris:20230523T203000
DTSTAMP:20260421T235522
CREATED:20230512T191421Z
LAST-MODIFIED:20230518T123016Z
UID:12590-1684870200-1684873800@saint-ambroise.com
SUMMARY:Veillée de prière pour la vie
DESCRIPTION:Veillée de prière pour la vie à Saint-Germain-l’Auxerrois\n\n\n\nLes évêques d’Île-de-France invitent tous les fidèles à venir prier pour la vie mardi 23 mai 2023 à 19h30 à Saint-Germain-l’Auxerrois\, sur le thème « la vie en plénitude ». \n\n\n\nCette veillée de prière aura une tonalité particulière\, dans le débat actuel sur la fin de vie. Au programme les témoignages poignant de Louis Bouffard\, jeune de 22 ans atteint de myopathie et d’Axelle Hubert qui\, après avoir accompagné son mari atteint de SLA\, est maintenant accompagnante de la maladie et du deuil. \n\n\n\nPour ceux qui ne peuvent pas participer\, vous avez la possibilité de laisser votre intention grâce au bouton ci-dessous. Chaque intention sera déposée au pied de l’autel pendant la veillée de prière pour la vie\, puis confiée à une congrégation religieuse par chaque diocèse. \n\n\n\nPour ceux qui ne peuvent pas participer\, vous avez la possibilité de laisser votre intention par internet communication@diocese-paris.net \n\n\n\nChaque intention sera déposée au pied de l’autel pendant la veillée\, puis confiée à une congrégation religieuse par chaque diocèse.
URL:https://saint-ambroise.com/event/veillee-de-priere-pour-la-vie/
LOCATION:Saint-Germain-l’Auxerrois\, 2 Place du Louvre\, Paris\, 75001\, France
CATEGORIES:Prière
ATTACH;FMTTYPE=image/jpeg:https://saint-ambroise.com/wp-content/uploads/2023/05/veillee_de_priere_pour_la_vie.jpg
ORGANIZER;CN="A l%E2%80%99initiative des %C3%A9v%C3%AAques d%E2%80%99%C3%8Ele-de-France":MAILTO:eglise@saintgermainlauxerrois.fr
END:VEVENT
END:VCALENDAR