BEGIN:VCALENDAR
VERSION:2.0
PRODID:-//Paroisse Saint Ambroise - ECPv6.15.13//NONSGML v1.0//EN
CALSCALE:GREGORIAN
METHOD:PUBLISH
X-WR-CALNAME:Paroisse Saint Ambroise
X-ORIGINAL-URL:https://saint-ambroise.com
X-WR-CALDESC:Évènements pour Paroisse Saint Ambroise
REFRESH-INTERVAL;VALUE=DURATION:PT1H
X-Robots-Tag:noindex
X-PUBLISHED-TTL:PT1H
BEGIN:VTIMEZONE
TZID:Europe/Paris
BEGIN:DAYLIGHT
TZOFFSETFROM:+0100
TZOFFSETTO:+0200
TZNAME:CEST
DTSTART:20240331T010000
END:DAYLIGHT
BEGIN:STANDARD
TZOFFSETFROM:+0200
TZOFFSETTO:+0100
TZNAME:CET
DTSTART:20241027T010000
END:STANDARD
BEGIN:DAYLIGHT
TZOFFSETFROM:+0100
TZOFFSETTO:+0200
TZNAME:CEST
DTSTART:20250330T010000
END:DAYLIGHT
BEGIN:STANDARD
TZOFFSETFROM:+0200
TZOFFSETTO:+0100
TZNAME:CET
DTSTART:20251026T010000
END:STANDARD
BEGIN:DAYLIGHT
TZOFFSETFROM:+0100
TZOFFSETTO:+0200
TZNAME:CEST
DTSTART:20260329T010000
END:DAYLIGHT
BEGIN:STANDARD
TZOFFSETFROM:+0200
TZOFFSETTO:+0100
TZNAME:CET
DTSTART:20261025T010000
END:STANDARD
END:VTIMEZONE
BEGIN:VEVENT
DTSTART;TZID=Europe/Paris:20250701T103000
DTEND;TZID=Europe/Paris:20250701T113000
DTSTAMP:20260420T122931
CREATED:20250627T213143Z
LAST-MODIFIED:20250627T213247Z
UID:16932-1751365800-1751369400@saint-ambroise.com
SUMMARY:Funérailles de Bernard Giraudet
DESCRIPTION:Chers paroissiens\, \n\n\n\nAvec grande tristesse\, nous vous partageons le retour à Dieu de notre cher sacristain bénévole\, Bernard Giraudet. \n\n\n\n\n\n\n\n\n\n\n\nDepuis plus de 40 ans\, fidèle et humble\, dévoué et discret\, il assurait une présence précieuse et chaleureuse au milieu de nous\, préparant\, accompagnant et rangeant toutes nos célébrations. Il y a quelques jours encore\, pour la mission paroissiale et les messes dominicales\, il s’affairait dans l’église\, au service de l’annonce de l’Évangile.Que le Maître et Seigneur\, venu le chercher dans la nuit alors qu’il était toujours « en tenue de service »\, accueille ce bon serviteur dans la paix de son Royaume et fasse de lui un intercesseur pour notre paroisse qu’il a tant aimée. \n\n\n\nLes funérailles seront célébrées mardi matin 1er juillet à 10h30 à Saint-Ambroise.Vous êtes tous invités à vous y joindre.
URL:https://saint-ambroise.com/event/funerailles-de-bernard-giraudet/
LOCATION:Église Saint-Ambroise\, 71 bis Boulevard Voltaire\, Paris\, 75011\, France
CATEGORIES:Funérailles
ATTACH;FMTTYPE=image/jpeg:https://saint-ambroise.com/wp-content/uploads/2025/06/Bernard-Giraudet-funerailles-2025.jpg
ORGANIZER;CN="Paroisse Saint Ambroise":MAILTO:paroisse@saint-ambroise.com
END:VEVENT
END:VCALENDAR